Workbook

Sheet 封面
A1: 附件3：
A2: 2023年度省级预算执行情况绩效自评报表
A5: 编报部门（单位公章）：甘肃省嘉峪关公路事业发展中心
A6: 编报日期：2024-06-10
A7: 联系人及电话：甘露17793776067

Sheet 目录
A1: 2023年度省级预算执行情况绩效自评报表目录
A3: 一、部门自评报告
A4: 二、部门整体支出自评表
A5: 三、部门预算项目支出绩效自评结果汇总表
A6: 1.成品油税费改革资金用于养护工程项目（日常养护维修）绩效自评表
A7: 2.成品油税费改革用于养护工程项目经费绩效自评表
A8: 3.成品油税费改革资金用于业务费绩效自评表
A9: 4.非税收入资金绩效自评表
A10: 5.路产赔补费资金绩效自评表
A11: 6.政府收费公路养护、修缮及其他支出经费绩效自评表
A12: 7.政府还贷二级公路取消收费后补助资金项目绩效自评表
A13: 8.车辆购置税收入补助地方支出资金项目绩效自评表
... A16: 无

Sheet 整体绩效自评表
A1: 2023年 甘肃省嘉峪关公路事业发展中心 部门（单位）整体支出绩效自评表
A2: 部门（单位）名称 | B2: 甘肃省嘉峪关公路事业发展中心
A3: 部门（单位）整体支出 （万元） | C3: 年初预算数 | D3: 全年预算数（A） | E3: 实际支出数（B） | F3: 执行率（B/A） | H3: 分值 | I3: 得分
B4: 全年支出 | C4: =SUM(C5:C6) -> 5059.8841 | D4: =SUM(D5:D6) -> 5059.8841 | E4: =SUM(E5:E6) -> 5059.3204 | F4: =E4/D4% -> 99.98886 | H4: 10 | I4: 9.99
B5: 其中：基本支出 | C5: =1003.541423 -> 1003.5414 | D5: =C5 -> 1003.5414 | E5: =D5 -> 1003.5414 | F5: =E5/D5% -> 100 | H5: — | I5: —
B6: 项目支出 | C6: =自评结果汇总表!D14 -> 4056.3426 | D6: =C6 -> 4056.3426 | E6: =自评结果汇总表!H14 -> 4055.779 | F6: =E6/D6% -> 99.986104 | H6: — | I6: —
A7: 年度总体绩效目标完成情况 | B7: 预期目标 | E7: 目标实际完成情况
B8: 目标1：以公路养护为中心，落实归落工作，不断改善公路通行条件。 | E8: 目标1完成情况：小修保养及大中修工程的实施公路路况分项指标较上年有了显著提升，路域环境整治工程常态化，路域环境明显提升，小修保养质量达标，养护维修工程顺利完成交工验收，达到了为社会公众出行提供方便快捷出行环境的既定目标，群众满意度及职工满意度达到既定目标。
B9: 目标2：以安全管理、应急保畅、综合管理为基础，稳步提升服务保障和综合管理水平。 | E9: 目标2完成情况：在全省公路系统首次探索引进“智能安全帽”，首次应用“预应力碳板张拉和同步顶升”两项新技术高效处置桥梁突发事件，应用“情景构建”模式开展省级“三特”桥梁突发事件应急处置综合演练，全年无安全事故发生。
B10: 目标3：以改革创新为动力，有效推进各项工作上升新高度。 | E10: 目标3完成情况：推动技术创新，推动信息化建设。
A11: 年度绩效指标完成情况 | B11: 一级指标 | C11: 二级指标 | D11: 三级指标 | E11: 年度指标值 | F11: 实际完成值 | G11: 分值 | H11: 得分 | I11: 偏差原因分析及改进措施
B12: 部门管理 | C12: 资金投入 | D12: 基本支出预算执行率 | E12: 1 | F12: 1 | G12: 2 | H12: 2
D13: 项目支出预算执行率 | E13: >=96% | F13: 0.9999 | G13: 2 | H13: 2
D14: “三公经费”控制率 | E14: <=100% | F14: 1 | G14: 2 | H14: 2
D15: 结转结余变动率 | E15: <=5% | F15: 0.048 | G15: 2 | H15: 2
C16: 财务管理 | D16: 财务管理制度健全性 | E16: 健全 | F16: 1 | G16: 2 | H16: 2
D17: 资金使用规范性 | E17: 规范 | F17: 1 | G17: 2 | H17: 2
C18: 采购管理 | D18: 政府采购规范性 | E18: 规范 | F18: 1 | G18: 2 | H18: 2
C19: 资产管理 | D19: 资产管理规范性 | E19: 规范 | F19: 1 | G19: 2 | H19: 2
C20: 人员管理 | D20: 在职人员控制率 | E20: 合规 | F20: 1 | G20: 2 | H20: 2
C21: 重点工作管理 | D21: 重点工作管理制度健全性 | E21: 健全 | F21: 1 | G21: 2 | H21: 2
B22: 履职效果 | C22: 部门履职目标 | D22: 养护道路里程（普通干线） | E22: 383.502公里 | F22: 383.502公里 | G22: 5.5 | H22: 5.5
D23: 养护道路里程（高速公路） | E23: 140.131公里 | F23: 140.131公里 | G23: 5.5 | H23: 5.5
D24: 公路养护完成及时性 | E24: 及时 | F24: 0.95 | G24: 5.5 | H24: 5 | I24: 因地域性及季节性原因，部分公路养护及公路施工影响行车速度
D25: 项目成本控制 | E25: 预算指标范围内 | F25: 1 | G25: 5.5 | H25: 5.5
C26: 部门效果目标 | D26: 公路养护实施效果 | E26: 良好 | F26: 1 | G26: 5.5 | H26: 5.5
D27: 交通出行条件 | E27: 良好 | F27: 0.95 | G27: 5.5 | H27: 5 | I27: 因工程施工进行作业区封闭，影响行车速度
D28: 改善路域环境 | E28: 良好 | F28: 1 | G28: 5.5 | H28: 5.5
C29: 社会影响 | D29: 单位获奖情况 | E29: 市级以上 | F29: 1 | G29: 6 | H29: 6
D30: 违法违纪情况 | E30: 无 | F30: 1 | G30: 5.5 | H30: 5.5
B31: 能力建设 | C31: 长效管理 | D31: 中期规划建设完备程度 | E31: 完备 | F31: 1 | G31: 2 | H31: 2
C32: 组织建设 | D32: 党建工作开展规律性 | E32: 完备 | F32: 1 | G32: 2 | H32: 2
C33: 信息化建设情况 | D33: 信息化管理覆盖率 | E33: 1 | F33: 0.9 | G33: 2 | H33: 1.5 | I33: 内控信息化建设暂未实现互联互通
C34: 人力资源建设 | D34: 人员培训机制完备性 | E34: 完备 | F34: 1 | G34: 2 | H34: 2
C35: 档案管理 | D35: 档案管理完备性 | E35: 完备 | F35: 1 | G35: 2 | H35: 2
B36: 服务对象满意度 | C36: 服务对象1的满意度 | D36: 职工满意度 | E36: >=80% | F36: 0.8 | G36: 5 | H36: 5
C37: 服务对象2的满意度 | D37: 服务对象满意度 | E37: >=80% | F37: 0.8 | G37: 5 | H37: 5
A38: 合 计 | H38: =SUM(H12:H37)+I4 -> 98.49
A39: 其他需要说明的问题：请在此处简要说明中央和省委巡视、各级审计和财政监督中发现的问题及其所涉及的金额，如没有填无。
A40: 注： 1.部门（单位）整体支出绩效自评采取打分评价形式，满分为100分，各部门可根据指标的重要程度自主确定各项二、三级指标的权重分值，各项指标得分加总得出该项目绩效自评的总分（中央和省委巡视、各级审计和财政监督中发现问题的酌情扣分），各项指标得分最高不能超过该指标分值上限，原则上一级指标分值统一设置为：预算执行率10分、部门管理指标20分、履职效果指标50分、能力建设指标10分、服务对象满意度指标10分，二、三级指标权重分值由各部门根据指标重要程度、项目实施阶段等因素综合确定。
...

Sheet 自评结果汇总表
A1: 2023年度省级部门预算支出项目绩效自评结果汇总表
A2: 序号 | B2: 项目名称 | C2: 主管部门 | D2: 项目资金（万元） | J2: 自评得分 | K2: 备注
D3: 全年预算数（A） | H3: 全年执行数（B） | I3: 执行率 （B/A）
D4: 小计 | E4: 当年财政拨款 | F4: 上年结转资金 | G4: 其他资金
A5: 1 | B5: 成品油税费改革资金用于养护工程项目（日常养护维修） | C5: 甘肃省交通运输厅 | D5: =SUM(E5:G5) -> 162.98438 | E5: 151.6981 | F5: 11.286284 | H5: 162.98 | I5: =H5/D5% -> 99.99731 | J5: ='1.成品油税费改革资金用于养护维修项目(日常养护维修)'!J27 -> 100
A6: 2 | B6: 成品油税费改革用于养护工程项目经费 | C6: 甘肃省交通运输厅 | D6: =SUM(E6:G6) -> 79.4115 | E6: 79.4115 | H6: 79.41 | I6: =H6/D6% -> 99.998111 | J6: ='2.成品油税费改革用于养护工程项目经费'!J27 -> 99.7725
A7: 3 | B7: 成品油税费改革资金用于业务费 | C7: 甘肃省交通运输厅 | D7: =SUM(E7:G7) -> 249.37 | E7: 199.57 | F7: 49.8 | H7: 249.37 | I7: =H7/D7% -> 100 | J7: ='3.成品油税费改革资金用于业务费'!J29 -> 100
A8: 4 | B8: 非税收入 | C8: 甘肃省交通运输厅 | D8: =SUM(E8:G8) -> 0.6 | E8: 0 | F8: 0.6 | H8: 0.6 | I8: =H8/D8% -> 100 | J8: ='4.非税收入'!J27 -> 100
A9: 5 | B9: 路产赔补费 | C9: 甘肃省交通运输厅 | K9: 不涉及
A10: 6 | B10: 政府收费公路养护、修缮及其他支出经费 | C10: 甘肃省交通运输厅 | D10: =SUM(E10:G10) -> 585.97676 | E10: 585.97676 | H10: =585.976761-0.5578 -> 585.41896 | I10: =H10/D10% -> 99.904809 | J10: ='5.政府收费公路养护、修缮及其他支出经费'!J34 -> 96.58441
A11: 7 | B11: 政府还贷二级公路取消收费后补助资金 | C11: 甘肃省交通运输厅 | D11: =SUM(E11:G11) -> 2357 | E11: 2357 | H11: 2357 | I11: =H11/D11% -> 100 | J11: ='6.政府还贷二级公路取消收费后补助资金'!J29 -> 99.7
A12: 8 | B12: 车辆购置税收入补助地方支出资金 | C12: 甘肃省交通运输厅 | D12: =SUM(E12:G12) -> 621 | E12: 621 | H12: 621 | I12: =H12/D12% -> 100 | J12: ='7.车辆购置税收入补助地方支出资金'!J25 -> 100
A13: 9 | B13: 公路建设 | C13: 甘肃省交通运输厅 | K13: 不涉及
B14: 合计 | D14: =SUM(D5:D12) -> 4056.3426 | E14: =SUM(E5:E12) -> 3994.6564 | F14: =SUM(F5:F12) -> 61.686284 | G14: =SUM(G5:G12) -> 0 | H14: =SUM(H5:H12) -> 4055.779 | I14: =H14/D14% -> 99.986104

Sheet 1.成品油税费改革资金用于养护维修项目(日常养护维修)
A1: 2023年度部门预算项目支出绩效自评表
A2: 项目名称 | C2: 成品油税费改革资金用于养护维修项目(日常养护维修)
A3: 主管部门 | C3: 甘肃省交通运输厅 | G3: 实施单位 | I3: 甘肃省嘉峪关公路事业发展中心本级（含后勤、试验）
A4: 项目资金（万元） | D4: 年初预算数 （万元） | E4: 全年预算数（万元） | G4: 全年执行数（万元） | I4: 执行率（%） | J4: 分值 | L4: 得分
C5: 年度资金总额 | D5: =E5 -> 162.98438 | E5: =SUM(E6:F7) -> 162.98438 | G5: =E5 -> 162.98438 | I5: 100 | J5: 10 | L5: 10
C6: 其中：财政拨款 | D6: =E6 -> 151.6981 | E6: 151.6981 | G6: =E6 -> 151.6981 | I6: 100 | J6: - | L6: -
C7: 上年结转资金 | D7: =E7 -> 11.286284 | E7: 11.286284 | G7: =E7 -> 11.286284 | I7: 100 | J7: - | L7: -
C8: 其他资金
A9: 年度总体目标 | C9: 预期目标 | G9: 实际完成情况
C10: 2023年度，保障公路养护人员日养护工作正常有序开展，保障员工合法权益，确保职工工资按月及时发放到位，各项津补贴福利按规定的期限和标准落实到位，各项社保按期核定、缴纳；按照规定保障各单位日常办公耗材和各项办公支出；办公用房和办公设施等各项保障支出坚持厉行节约，严格控制；工会经费和福利费等支出按照总工会相关规定执行。年度预算执行率100%。 | G10: 2023年下达成品油税费改革资金用于养护维修项目(日常养护维修)预算资金162.98万元（其中当年财政拨款151.70万元，上年结转资金11.29万元）。2023年燃油税养护人员总体绩效目标完成较好，人员工资及时足额发放，“五险一金”正常缴纳，在相关政策规定允许且有预算支持的情况下，保障了职工福利待遇；职工的办公、生产、生活正常开展和进行；进一步压缩行政管理开支和各种非生产性开支，保证“三公”经费持续下降。按月合理支出，提高了预算执行效率，切实提高了资金使用的安全性、规范性和有效性，各项工作有序开展，执行率100%。
A11: 绩 效 指 标 | B11: 一级指标 | C11: 二级指标 | E11: 三级指标 | G11: 年度指标值 | H11: 实际完成值 | I11: 分值（权重） | J11: 得分 | K11: 偏差原因分析及改进措施
B12: 产出指标 | C12: 数量指标 | E12: 普通干线公路日常养护人员供养数量 | G12: 6人 | H12: 6人 | I12: 5 | J12: 5
C13: 质量指标 | E13: 各项工作达标率 | G13: =100% | H13: 100% | I13: 5 | J13: 5
E14: 经费支出合规性 | G14: 合规 | H14: 100% | I14: 5 | J14: 5
C15: 时效指标 | E15: 工作及时性 | G15: 及时 | H15: 100% | I15: 5 | J15: 5
E16: 工资发放及各项社保缴纳等及时性 | G16: 及时 | H16: 100% | I16: 5 | J16: 5
E17: 经费支出时效性 | G17: 及时 | H17: 100% | I17: 5 | J17: 5
C18: 成本指标 | E18: 是否存在超预算情况 | G18: 无 | H18: 100% | I18: 5 | J18: 5
E19: 预算执行率 | G19: =100% | H19: 100% | I19: 5 | J19: 5
E20: 交通行业形象提升 | G20: 提升 | H20: 100% | I20: 5 | J20: 5
E21: 厉行节约要求落实率 | G21: =100% | H21: 100% | I21: 5 | J21: 5
B22: 效益指标 | C22: 经济效益指标 | E22: 对保障各项业务工作正常开展，促进公共服务效率 | G22: 明显 | H22: 100% | I22: 7.5 | J22: 7.5
C23: 社会效益指标 | E23: 职工队伍稳定提升 | G23: 提升 | H23: 100% | I23: 7.5 | J23: 7.5
E24: 行业整体精神文明建设水平提升 | G24: 提升 | H24: 100% | I24: 7.5 | J24: 7.5
C25: 生态效益指标 | E25: 办公环境改善程度 | G25: 显著 | H25: 100% | I25: 7.5 | J25: 7.5
E26: 职工满意度 | G26: >=80% | H26: 80% | I26: 10 | J26: 10
A27: 总分 | I27: =SUM(I12:I26)+J5 -> 100 | J27: 100 | K27: 优秀
A28: 说明 | B28: 无
A29: 注：1.其他资金包括中央补助、各级财政资金共同投入到同一项目的自有资金、社会资金等。
A30: 2.绩效自评采取打分评价形式，满分为100分，各部门可根据指标的重要程度自主确定各项三级指标的权重分值，各项指标得分加总得出该项目绩效自评的总分（中央和省委巡视、各级审计和财政监督中发现问题的酌情扣分），各项指标得分最高不能超过该指标分值上限，原则上一级指标分值统一设置为：成本指标20分、产出指标40分、效益指标20分、满意度指标10分、预算资金执行率10分。如有特殊情况，除预算资金执行率外，其他指标权重可作适当调整，但总分应为100分。
A31: 3.本表资金使用单位按具体项目填报，主管部门按二级项目汇总绩效目标，对于定量指标，绝对值直接累加计算，相对值按照资金额度加权平均计算；定性指标根据指标完成情况分为：全部或基本达成预期指标、部分达成预期指标并具有一定效果、未达成预期指标且效果较差三档，分别按照100%-80%（含）、80%-60%（含）、60%-0%合理填写完成比例。

Sheet 2.成品油税费改革用于养护工程项目经费
A1: 2023年度部门预算项目支出绩效自评表
A2: 项目名称 | C2: 成品油税费改革用于养护工程项目经费
A3: 主管部门 | C3: 甘肃省交通运输厅 | G3: 实施单位 | I3: 甘肃省嘉峪关公路事业发展中心本级（含后勤、试验）
A4: 项目资金（万元） | D4: 年初预算数 （万元） | E4: 全年预算数（万元） | G4: 全年执行数（万元） | I4: 执行率（%） | J4: 分值 | L4: 得分
C5: 年度资金总额 | D5: =SUM(D6:D8) -> 79.4115 | E5: =SUM(E6:F7) -> 79.4115 | G5: =E5 -> 79.4115 | I5: 100 | J5: 10 | L5: 10
C6: 其中：财政拨款 | D6: =E6 -> 79.4115 | E6: 79.4115 | G6: =E6 -> 79.4115 | I6: 100 | J6: - | L6: -
C7: 上年结转资金
C8: 其他资金
A9: 年度总体目标 | C9: 预期目标 | G9: 实际完成情况
C10: 完成国省干线公路小修保养工作，养护质量合格，安全、文明、环保施工符合要求，加大巡查力度，及时清运垃圾。普通国省干线公路优良路率达到75%以上，确保当年国省干线公路基本的日常运营和维护维修，保证国省干线公路运营健康发展。提升公路养护治理能力，保持公路及其沿线设施良好的技术状况，完成年度省养普通干线公路路面及部分桥隧检测工作，出具检测评定报告，为公路养护科学决策提供依据，更好地为公众安全便捷出行提供服务。资料合适齐全，资金及时支付。保持路面整洁平整，行车舒适；标志标线齐全规范，沿线设施完善，绿化美观。使管养公路达到“畅、安、舒、美”的交通环境。 | G10: 2023年，下达成品油税费改革用于养护工程项目经费79.41万元，为当年财政拨款。完成国省干线公路小修保养工作，养护质量合格，安全、文明、环保施工符合要求，小修保养及工程计量资料合适齐全，资金及时支付且执行率100%，不间断加大巡查力度，提升公路养护治理能力，保持公路及其沿线设施良好的技术状况，路面整洁平整且行车舒适，标志标线齐全规范，沿线设施完善，绿化美观，使管养公路达到“畅、安、舒、美”的交通环境。
A11: 绩 效 指 标 | B11: 一级指标 | C11: 二级指标 | E11: 三级指标 | G11: 年度指标值 | H11: 实际完成值 | I11: 分值（权重） | J11: 指标得分 | K11: 偏差原因分析及改进措施
B12: 产出指标 | C12: 数量指标 | E12: 支持普通国省道公路养护里程 | G12: =383.50公里 | H12: 383.50公里 | I12: 4.55 | J12: 4.55
C13: 质量指标 | E13: 工作达标率 | G13: =100% | H13: 100% | I13: 4.54 | J13: 4.54
E14: 经费支出合规性 | G14: 合规 | H14: 100% | I14: 4.54 | J14: 4.54
E15: 平均MQI | G15: >=82 | H15: 89.74 | I15: 4.54 | J15: 4.54
E16: 平均PQI | G16: >=80 | H16: 87.13 | I16: 4.54 | J16: 4.54
E17: 普通国省干线公路优良路率 | G17: >=75% | H17: 0.9191 | I17: 4.54 | J17: 4.54
C18: 时效指标 | E18: 工作及时性 | G18: 及时 | H18: 0.95 | I18: 4.55 | J18: =4.55*0.95 -> 4.3225 | K18: 因工程施工进行作业区封闭，影响行车速度。下一步将科学制定绕行方案，合理布设作业区，加快施工进度，保证普通干线公路畅通。
E19: 经费支出时效性 | G19: 及时 | H19: 100% | I19: 4.55 | J19: 4.55
C20: 成本指标 | E20: 是否存在超预算情况 | G20: 无 | H20: 100% | I20: 4.55 | J20: 4.55
E21: 交通行业形象提升 | G21: 提升 | H21: 100% | I21: 4.55 | J21: 4.55
E22: 厉行节约要求落实率 | G22: =100% | H22: 100% | I22: 4.55 | J22: 4.55
B23: 效益指标 | C23: 经济效益指标 | E23: 对保障各项业务工作正常开展，促进公共服务效率 | G23: 明显 | H23: 100% | I23: 10 | J23: 10
C24: 社会效益指标 | E24: 行业整体精神文明建设水平提升 | G24: 提升 | H24: 100% | I24: 10 | J24: 10
C25: 生态效益指标 | E25: 办公环境改善程度 | G25: 显著 | H25: 100% | I25: 10 | J25: 10
B26: 满意度指标 | C26: 服务对象满意度指标 | E26: 人民群众满意度 | G26: >=80% | H26: 80% | I26: 10 | J26: 10
A27: 总分 | I27: =SUM(I12:I26)+J5 -> 100 | J27: =SUM(J12:J26)+L5 -> 99.7725 | K27: 优秀
A28: 说明 | B28: 无
A29: 注：1.其他资金包括中央补助、各级财政资金共同投入到同一项目的自有资金、社会资金等。
A30: 2.绩效自评采取打分评价形式，满分为100分，各部门可根据指标的重要程度自主确定各项三级指标的权重分值，各项指标得分加总得出该项目绩效自评的总分（中央和省委巡视、各级审计和财政监督中发现问题的酌情扣分），各项指标得分最高不能超过该指标分值上限，原则上一级指标分值统一设置为：成本指标20分、产出指标40分、效益指标20分、满意度指标10分、预算资金执行率10分。如有特殊情况，除预算资金执行率外，其他指标权重可作适当调整，但总分应为100分。
A31: 3.本表资金使用单位按具体项目填报，主管部门按二级项目汇总绩效目标，对于定量指标，绝对值直接累加计算，相对值按照资金额度加权平均计算；定性指标根据指标完成情况分为：全部或基本达成预期指标、部分达成预期指标并具有一定效果、未达成预期指标且效果较差三档，分别按照100%-80%（含）、80%-60%（含）、60%-0%合理填写完成比例。

Sheet 3.成品油税费改革资金用于业务费
A1: 2023年度部门预算项目支出绩效自评表
A2: 项目名称 | C2: 成品油税费改革资金用于业务费
A3: 主管部门 | C3: 甘肃省交通运输厅 | G3: 实施单位 | I3: 甘肃省嘉峪关公路事业发展中心本级（含后勤、试验）
A4: 项目资金（万元） | D4: 年初预算数 （万元） | E4: 全年预算数（万元） | G4: 全年执行数（万元） | I4: 执行率（%） | J4: 分值 | L4: 得分
C5: 年度资金总额 | D5: =SUM(D6:D8) -> 249.37 | E5: =SUM(E6:F7) -> 249.37 | G5: =SUM(G6:H7) -> 249.37 | I5: 100 | J5: 10 | L5: 10
C6: 其中：财政拨款 | D6: 199.57 | E6: 199.57 | G6: 199.57
C7: 上年结转资金 | D7: 49.8 | E7: 49.8 | G7: 49.8
C8: 其他资金
A9: 年度总体目标 | C9: 预期目标 | G9: 实际完成情况
C10: 2023年度，计划完成公路养护相关业务专项，公路养护巡查、数据统计、农村公路督导、应急保障等养护相关工作顺利开展。 | G10: 2023年度，下达成品油税费改革资金用于业务费共计249.37万元，其中燃油税业务费补差70.28万元，农村公路督导帮扶经费10.00万元，养护巡查购置费（3辆）75.00万元，下达“八棵树精神”专项工作经费94.09万元（其中当年财政拨款44.29万元，上年结转资金49.80万元）。机关日常平稳运行，各项工作有序开展，公路养护巡查、公路养护数据统计、农村公路督导等养护相关工作及时开展，开展农村公路督导4次，完成3辆养护巡查车购置工作任务，并完成完成资产入账及资产信息系统更新工作，不断加强八棵树精神的宣传工作，八棵树精神影响力及知晓度持续扩大，为公路行业树立良好品牌文化形象。
A11: 绩 效 指 标 | B11: 一级指标 | C11: 二级指标 | E11: 三级指标 | G11: 年度指标值 | H11: 实际完成值 | I11: 分值（权重） | J11: 指标得分 | K11: 偏差原因分析及改进措施
B12: 产出指标 | C12: 数量指标 | E12: 车辆购置数 | G12: =3辆 | H12: 3辆 | I12: 4.17 | J12: 4.17
E13: 农村公路建设项目质量抽检覆盖率 | G13: =100% | H13: 100% | I13: 4.17 | J13: 4.17
E14: 统计及年报编制完成率 | G14: =100% | H14: 100% | I14: 4.17 | J14: 4.17
E15: 政府采购执行率 | G15: =100% | H15: 100% | I15: 4.17 | J15: 4.17
E16: 专项督导工作完成率 | G16: =100% | H16: 100% | I16: 4.17 | J16: 4.17
C17: 质量指标 | E17: 工作达标率 | G17: =100% | H17: 100% | I17: 4.16 | J17: 4.16
E18: 经费支出合规性 | G18: 合规 | H18: 100% | I18: 4.16 | J18: 4.16
C19: 时效指标 | E19: 工作及时性 | G19: 及时 | H19: 100% | I19: 4.16 | J19: 4.16
E20: 经费支出时效性 | G20: 及时 | H20: 100% | I20: 4.16 | J20: 4.16
C21: 成本指标 | E21: 是否存在超预算情况 | G21: 否 | H21: 100% | I21: 4.17 | J21: 4.17
E22: 交通行业形象提升 | G22: 提升 | H22: 100% | I22: 4.17 | J22: 4.17
E23: 厉行节约要求落实率 | G23: =100% | H23: 100% | I23: 4.17 | J23: 4.17
B24: 效益指标 | C24: 经济效益指标 | E24: 对保障各项业务工作正常开展，促进公共服务效率 | G24: 显著 | H24: 100% | I24: 10 | J24: 10
C25: 社会效益指标 | E25: 行业整体精神文明建设水平提升 | G25: 提升 | H25: 100% | I25: 10 | J25: 10
C26: 生态效益指标 | E26: 办公环境改善程度 | G26: 显著 | H26: 100% | I26: 10 | J26: 10
B27: 满意度指标 | C27: 服务对象满意度指标 | E27: 职工满意度 | G27: >=80% | H27: 80% | I27: 5 | J27: 5
C28: 服务对象满意度指标 | E28: 人民群众满意度 | G28: >=80% | H28: 80% | I28: 5 | J28: 5
A29: 总分 | I29: =SUM(I12:I28)+J5 -> 100 | J29: =SUM(J12:J28)+L5 -> 100 | K29: 优秀
A30: 说明 | B30: 无
A31: 注：1.其他资金包括中央补助、各级财政资金共同投入到同一项目的自有资金、社会资金等。
A32: 2.绩效自评采取打分评价形式，满分为100分，各部门可根据指标的重要程度自主确定各项三级指标的权重分值，各项指标得分加总得出该项目绩效自评的总分（中央和省委巡视、各级审计和财政监督中发现问题的酌情扣分），各项指标得分最高不能超过该指标分值上限，原则上一级指标分值统一设置为：成本指标20分、产出指标40分、效益指标20分、满意度指标10分、预算资金执行率10分。如有特殊情况，除预算资金执行率外，其他指标权重可作适当调整，但总分应为100分。
A33: 3.本表资金使用单位按具体项目填报，主管部门按二级项目汇总绩效目标，对于定量指标，绝对值直接累加计算，相对值按照资金额度加权平均计算；定性指标根据指标完成情况分为：全部或基本达成预期指标、部分达成预期指标并具有一定效果、未达成预期指标且效果较差三档，分别按照100%-80%（含）、80%-60%（含）、60%-0%合理填写完成比例。

Sheet 4.非税收入
A1: 2023年度部门预算项目支出绩效自评表
A2: 项目名称 | C2: 非税收入资金
A3: 主管部门 | C3: 甘肃省交通运输厅 | G3: 实施单位 | I3: 甘肃省嘉峪关公路事业发展中心本级（含后勤、试验）
A4: 项目资金（万元） | D4: 年初预算数 （万元） | E4: 全年预算数（万元） | G4: 全年执行数（万元） | I4: 执行率（%） | J4: 分值 | L4: 得分
C5: 年度资金总额 | D5: =E5 -> 0.6 | E5: =SUM(E6:F7) -> 0.6 | G5: =E5 -> 0.6 | I5: 100 | J5: 10 | L5: 10
C6: 其中：财政拨款 | D6: =E6 -> 0 | G6: =E6 -> 0
C7: 上年结转资金 | D7: =E7 -> 0.6 | E7: 0.6 | G7: =E7 -> 0.6
C8: 其他资金
A9: 年度总体目标 | C9: 预期目标 | G9: 实际完成情况
C10: 通过维修改造，消除安全隐患，恢复房屋安全使用功能，维护国有资产安全完整，减少日常频繁维修形成的资金流失等问题。改善后的办公环境进一步激发职工的工作热情和积极性，提高工作效率，提升单位外部形象。 | G10: 2023年度，下达非税收入返还预算0.6万元，为上年结转资金。根据《甘肃省交通运输厅关于厅机关及部分厅属单位房屋维修项目的批复》（甘交财审函〔2022〕291 号）文件的要求，主要用于镜铁公路段办公楼维修改造项目、镜铁山养管站职工卫生间及活动室维修项评审费用目，预算执行率100%，工程完工率及质量合格率均为100%，经费支出合规，有效保障各项业务工作正常开展，进一步消除安全隐患，办公环境及生活条件显著改善，职工队伍稳定提升。
A11: 绩 效 指 标 | B11: 一级指标 | C11: 二级指标 | E11: 三级指标 | G11: 年度指标值 | H11: 实际完成值 | I11: 分值（权重） | J11: 指标得分 | K11: 偏差原因分析及改进措施
B12: 产出指标 | C12: 数量指标 | E12: 房屋维修改造项目数 | G12: 2处 | H12: 2处 | I12: 5 | J12: 5
E13: 工程完成率 | G13: =100% | H13: 100% | I13: 5 | J13: 5
C14: 质量指标 | E14: 工程质量合格率 | G14: =100% | H14: 100% | I14: 5 | J14: 5
E15: 经费支出合规性 | G15: 合规 | H15: 100% | I15: 5 | J15: 5
C16: 时效指标 | E16: 工作及时性 | G16: 及时 | H16: 100% | I16: 5 | J16: 5
E17: 经费支出时效性 | G17: 及时 | H17: 100% | I17: 5 | J17: 5
C18: 成本指标 | E18: 是否存在超预算情况 | G18: 否 | H18: 100% | I18: 5 | J18: 5
E19: 预算执行率 | G19: =100% | H19: 100% | I19: 5 | J19: 5
E20: 交通行业形象提升 | G20: 提升 | H20: 100% | I20: 5 | J20: 5
E21: 厉行节约要求落实率 | G21: =100% | H21: 100% | I21: 5 | J21: 5
B22: 效益指标 | C22: 经济效益指标 | E22: 对保障各项业务工作正常开展，促进公共服务效率 | G22: 显著 | H22: 100% | I22: 7.5 | J22: 7.5
C23: 社会效益指标 | E23: 职工队伍稳定提升 | G23: 提升 | H23: 100% | I23: 7.5 | J23: 7.5
E24: 行业整体精神文明建设水平提升 | G24: 提升 | H24: 100% | I24: 7.5 | J24: 7.5
C25: 生态效益指标 | E25: 办公环境改善程度 | G25: 显著 | H25: 100% | I25: 7.5 | J25: 7.5
B26: 满意度指标 | C26: 服务对象满意度指标 | E26: 职工群众满意度 | G26: >=80% | H26: 80% | I26: 10 | J26: 10
A27: 总分 | I27: =SUM(I12:I26)+J5 -> 100 | J27: =SUM(J12:J26)+L5 -> 100 | K27: 优秀
A28: 说明 | B28: 无
A29: 注：1.其他资金包括中央补助、各级财政资金共同投入到同一项目的自有资金、社会资金等。
A30: 2.绩效自评采取打分评价形式，满分为100分，各部门可根据指标的重要程度自主确定各项三级指标的权重分值，各项指标得分加总得出该项目绩效自评的总分（中央和省委巡视、各级审计和财政监督中发现问题的酌情扣分），各项指标得分最高不能超过该指标分值上限，原则上一级指标分值统一设置为：成本指标20分、产出指标40分、效益指标20分、满意度指标10分、预算资金执行率10分。如有特殊情况，除预算资金执行率外，其他指标权重可作适当调整，但总分应为100分。
A31: 3.本表资金使用单位按具体项目填报，主管部门按二级项目汇总绩效目标，对于定量指标，绝对值直接累加计算，相对值按照资金额度加权平均计算；定性指标根据指标完成情况分为：全部或基本达成预期指标、部分达成预期指标并具有一定效果、未达成预期指标且效果较差三档，分别按照100%-80%（含）、80%-60%（含）、60%-0%合理填写完成比例。

Sheet 5.政府收费公路养护、修缮及其他支出经费
A1: 2023年度部门预算项目支出绩效自评表
A2: 项目名称 | C2: 政府收费公路养护、修缮及其他支出经费
A3: 主管部门 | C3: 甘肃省交通运输厅 | G3: 实施单位 | I3: 甘肃省嘉峪关公路事业发展中心本级（含后勤、试验）
A4: 项目资金（万元） | D4: 年初预算数 （万元） | E4: 全年预算数（万元） | G4: 全年执行数（万元） | I4: 执行率（%） | J4: 分值 | L4: 得分
C5: 年度资金总额 | D5: =SUM(D6:D8) -> 585.97676 | E5: =SUM(E6:F7) -> 585.97676 | G5: =SUM(G6:H7) -> 585.41896 | I5: 99.99 | J5: 10 | L5: 9.9
C6: 其中：财政拨款 | D6: 585.97676 | E6: 585.97676 | G6: =585.976761-0.5578 -> 585.41896
C7: 上年结转资金
C8: 其他资金
A9: 年度总体目标 | C9: 预期目标 | G9: 实际完成情况
C10: 2023年度，我单位计划开展以下工作：高速公路小修保养养护里程140.13公里。质量合格，安全、文明、环保施工符合要求，加大巡查力度，及时清运垃圾，资料合适齐全，资金及时支付。优良路率和优等路率均达到规定，确保当年高速公路基本的日常运营和维护维修，保证高速公路健康发展。 | G10: 2023年度，下达政府收费公路养护、修缮及其他支出经费585.98万元。总体绩效目标已基本完成，高速公路小修保养养护里程140.13公里，高速公路养护治理能力逐步提升，沿线设施运行良好，完成高速公路小修保养、日常养护、公路巡查、应急处置、养护工程、路域垃圾清理等工作任务，专用设备购置率100%，专用设备入账率100%，高速公路畅通、安全，为大众提高便捷出行环境。
A11: 绩 效 指 标 | B11: 一级指标 | C11: 二级指标 | E11: 三级指标 | G11: 年度指标值 | H11: 实际完成值 | I11: 分值（权重） | J11: 指标得分 | K11: 偏差原因分析及改进措施
B12: 产出指标 | C12: 数量指标 | E12: 设备购置合格率 | G12: =100% | H12: 100% | I12: 2.94 | J12: 2.94
E13: 投入资产入账率 | G13: =100% | H13: 100% | I13: 2.94 | J13: 2.94
E14: 完成养护大中修项目（项） | G14: 2项 | H14: 2项 | I14: 2.94 | J14: 2.94
E15: 招投标工作完成率 | G15: >=95% | H15: 100% | I15: 2.94 | J15: 2.94
E16: 支持高速公路养护里程（公里） | G16: =140.13公里 | H16: 140.13公里 | I16: 2.94 | J16: 2.94
E17: 专用设备购置率 | G17: =100% | H17: 100% | I17: 2.94 | J17: 2.94
E18: 专用设备购置数量 | G18: =6辆/套 | H18: 6辆/套 | I18: 2.94 | J18: 2.94
C19: 质量指标 | E19: 工程质量合格率 | G19: =100% | H19: 100% | I19: 2.94 | J19: 2.94
E20: 工作达标率 | G20: =100% | H20: 100% | I20: 2.94 | J20: 2.94
E21: 经费支出合规性 | G21: 合规 | H21: 100% | I21: 2.94 | J21: 2.94
E22: 平均MQI | G22: >=93 | H22: 92.7 | I22: 2.94 | J22: 0 | K22: 平均MQI未达到既定目标，下一步继续完善高速公路养护施工方案，合理安排预算资金，把有限的资金用在公路养护上来，提升平均MQI数值。
E23: 平均PQI | G23: >=91 | H23: 93.15 | I23: 2.94 | J23: 2.94
C24: 时效指标 | E24: 工作及时性 | G24: 及时 | H24: 100% | I24: 2.95 | J24: 2.95
E25: 经费支出时效性 | G25: 及时 | H25: 99.98% | I25: 2.95 | J25: =2.95*0.9998 -> 2.94941 | K25: 结转资金0.56万元，为尚未完成支付的工程审计费，待完成工程项目审计后执行完毕。
C26: 成本指标 | E26: 是否存在超预算情况 | G26: 无 | H26: 100% | I26: 2.94 | J26: 2.94
E27: 交通行业形象提升 | G27: 提升 | H27: 100% | I27: 2.94 | J27: 2.94
E28: 厉行节约要求落实率 | G28: =100% | H28: 100% | I28: 2.94 | J28: 2.94
B29: 效益指标 | C29: 经济效益指标 | E29: 对经济增长的影响或提升程度 | G29: 较高 | H29: 100% | I29: 7.5 | J29: 7.5
C30: 社会效益指标 | E30: 高速公路服务水平 | G30: 提升 | H30: 100% | I30: 7.5 | J30: 7.5
E31: 高速公路路网畅通 | G31: 畅通 | H31: 0.95 | I31: 7.5 | J31: =7.5*0.95 -> 7.125 | K31: 因工程施工进行作业区封闭，道路半幅通行，影响行车速度。下一步将科学制定绕行方案，合理布设作业区，加快施工进度，保证公路路网畅通。
C32: 生态效益指标 | E32: 环境保护情况 | G32: 有效 | H32: 100% | I32: 7.5 | J32: 7.5
B33: 满意度指标 | C33: 服务对象满意度指标 | E33: 出行满意度 | G33: >=80% | H33: 80% | I33: 10 | J33: 10
A34: 总分 | I34: =SUM(I12:I33)+J5 -> 100 | J34: =SUM(J12:J33)+L5 -> 96.58441 | K34: 优秀
A35: 说明 | B35: 无
A36: 注：1.其他资金包括中央补助、各级财政资金共同投入到同一项目的自有资金、社会资金等。
A37: 2.绩效自评采取打分评价形式，满分为100分，各部门可根据指标的重要程度自主确定各项三级指标的权重分值，各项指标得分加总得出该项目绩效自评的总分（中央和省委巡视、各级审计和财政监督中发现问题的酌情扣分），各项指标得分最高不能超过该指标分值上限，原则上一级指标分值统一设置为：成本指标20分、产出指标40分、效益指标20分、满意度指标10分、预算资金执行率10分。如有特殊情况，除预算资金执行率外，其他指标权重可作适当调整，但总分应为100分。
A38: 3.本表资金使用单位按具体项目填报，主管部门按二级项目汇总绩效目标，对于定量指标，绝对值直接累加计算，相对值按照资金额度加权平均计算；定性指标根据指标完成情况分为：全部或基本达成预期指标、部分达成预期指标并具有一定效果、未达成预期指标且效果较差三档，分别按照100%-80%（含）、80%-60%（含）、60%-0%合理填写完成比例。

Sheet 6.政府还贷二级公路取消收费后补助资金
A1: 2023年度部门预算项目支出绩效自评表
A2: 项目名称 | C2: 政府还贷二级公路取消收费后补助资金
A3: 主管部门 | C3: 甘肃省交通运输厅 | G3: 实施单位 | I3: 甘肃省嘉峪关公路事业发展中心本级（含后勤、试验）
A4: 项目资金（万元） | D4: 年初预算数 （万元） | E4: 全年预算数（万元） | G4: 全年执行数（万元） | I4: 执行率（%） | J4: 分值 | L4: 得分
C5: 年度资金总额 | D5: =SUM(D6:D8) -> 2357 | E5: 2357 | G5: =SUM(G6:H7) -> 2357 | I5: 100 | J5: 10 | L5: 10
C6: 其中：财政拨款 | D6: 2357 | E6: 2357 | G6: 2357
C7: 上年结转资金
C8: 其他资金
A9: 年度总体目标 | C9: 预期目标 | G9: 实际完成情况
C10: 2023年，完成全年工作任务，保持公路基础设施良好技术状况，根据政策要求保障项目正常运转，工程质量合格，安全、文明、环保施工符合要求，资料核实齐全，资金及时支付。 | G10: 2023年下达3项养护维修工程金额为2357.00万元，未本年财政拨款。完成1项国道、2项省道养护维修工程施工任务及冬季除雪保畅工作任务，各项工作开展及时，工程质量合格，均已完成交工验收，安全、文明、环保施工环节符合要求，项目资料齐全闭合，资金支付及时且预算执行率100%。
A11: 绩 效 指 标 | B11: 一级指标 | C11: 二级指标 | E11: 三级指标 | G11: 年度指标值 | H11: 实际完成值 | I11: 分值（权重） | J11: 指标得分 | K11: 偏差原因分析及改进措施
B12: 产出指标 | C12: 数量指标 | E12: 省养国道项目个数 | G12: =1项 | H12: 1项 | I12: 4.55 | J12: 4.55
E13: 省养省道项目个数 | G13: =2项 | H13: 2项 | I13: 4.55 | J13: 4.55
E14: 预算执行率 | G14: =100% | H14: 100% | I14: 4.55 | J14: 4.55
C15: 质量指标 | E15: 工作达标率 | G15: =100% | H15: 100% | I15: 4.55 | J15: 4.55
E16: 经费支出合规性 | G16: 合规 | H16: 100% | I16: 4.55 | J16: 4.55
E17: 项目实施后预期PQI | G17: >=90 | H17: 94.56 | I17: 4.55 | J17: 4.55
C18: 时效指标 | E18: 各类工作按时完成率 | G18: =100% | H18: 100% | I18: 4.54 | J18: 4.54
E19: 年度投资计划完成率 | G19: =100% | H19: 100% | I19: 4.54 | J19: 4.54
C20: 成本指标 | E20: 是否存在超预算情况 | G20: 无 | H20: 100% | I20: 4.54 | J20: 4.54
E21: 厉行节约要求落实率 | G21: =100% | H21: 100% | I21: 4.54 | J21: 4.54
E22: 养护施工对周围环境的影 | G22: 减少 | H22: 100% | I22: 4.54 | J22: 4.54
B23: 效益指标 | C23: 经济效益指标 | E23: 对保障各项业务工作正常开展，促进公共服务效率 | G23: 明显 | H23: 100% | I23: 6 | J23: 6
E24: 对经济增长的影响或提升程度 | G24: 较高 | H24: 100% | I24: 6 | J24: 6
C25: 社会效益指标 | E25: 道路通行能力提升情况 | G25: 提升 | H25: 0.95 | I25: 6 | J25: 5.7 | K25: 因工程施工进行作业区封闭，影响行车速度
E26: 服务质量提升情况 | G26: 提升 | H26: 100% | I26: 6 | J26: 6
C27: 生态效益指标 | E27: 防止噪音、粉尘、大气、水质、生态等环境污染 | G27: 防止 | H27: 100% | I27: 6 | J27: 6
B28: 满意度指标 | C28: 服务对象满意度指标 | E28: 人民群众满意度 | G28: >=80% | H28: 80% | I28: 10 | J28: 10
A29: 总分 | I29: =SUM(I12:I28)+J5 -> 100 | J29: =SUM(J12:J28)+L5 -> 99.7 | K29: 优秀
A30: 说明 | B30: 无
A31: 注：1.其他资金包括中央补助、各级财政资金共同投入到同一项目的自有资金、社会资金等。
A32: 2.绩效自评采取打分评价形式，满分为100分，各部门可根据指标的重要程度自主确定各项三级指标的权重分值，各项指标得分加总得出该项目绩效自评的总分（中央和省委巡视、各级审计和财政监督中发现问题的酌情扣分），各项指标得分最高不能超过该指标分值上限，原则上一级指标分值统一设置为：成本指标20分、产出指标40分、效益指标20分、满意度指标10分、预算资金执行率10分。如有特殊情况，除预算资金执行率外，其他指标权重可作适当调整，但总分应为100分。
A33: 3.本表资金使用单位按具体项目填报，主管部门按二级项目汇总绩效目标，对于定量指标，绝对值直接累加计算，相对值按照资金额度加权平均计算；定性指标根据指标完成情况分为：全部或基本达成预期指标、部分达成预期指标并具有一定效果、未达成预期指标且效果较差三档，分别按照100%-80%（含）、80%-60%（含）、60%-0%合理填写完成比例。

Sheet 7.车辆购置税收入补助地方支出资金
A1: 2023年度部门预算项目支出绩效自评表
A2: 项目名称 | C2: 车辆购置税收入补助地方支出资金
A3: 主管部门 | C3: 甘肃省交通运输厅 | G3: 实施单位 | I3: 甘肃省嘉峪关公路事业发展中心本级（含后勤、试验）
A4: 项目资金（万元） | D4: 年初预算数 （万元） | E4: 全年预算数（万元） | G4: 全年执行数（万元） | I4: 执行率（%） | J4: 分值 | L4: 得分
C5: 年度资金总额 | D5: =SUM(D6:D8) -> 621 | E5: =SUM(E6:F7) -> 621 | G5: =SUM(G6:H7) -> 621 | I5: 100 | J5: 10 | L5: 10
C6: 其中：财政拨款 | D6: 621 | E6: 621 | G6: 621
C7: 上年结转资金
C8: 其他资金
A9: 年度总体目标 | C9: 预期目标 | G9: 实际完成情况
C10: 2023年度，完成全年工作任务，保持公路基础设施良好技术状况，根据政策要求保障项目正常运转，工程质量合格，安全、文明、环保施工符合要求，资料核实齐全，资金及时支付。 | G10: 2023年，下达6批次车辆购置税资金共737.00万元，完成了S215线哈山桥、S215线五座桥两项危桥改造工程工作任务，工程全部完成并已交工，工程质量合格，安全、文明、环保等施工环节均符合要求，资金及时支付、执行率100%，项目资料收集齐全，群众满意度达到既定目标，为公路畅、安、舒、美提供了良好基础保障。
A11: 绩 效 指 标 | B11: 一级指标 | C11: 二级指标 | E11: 三级指标 | G11: 年度指标值 | H11: 实际完成值 | I11: 分值（权重） | J11: 指标得分 | K11: 偏差原因分析及改进措施
B12: 成本指标 | C12: 经济成本指标 | E12: 是否存在超预算情况 | G12: 无 | H12: 100% | I12: 6.68 | J12: 6.68
C13: 社会成本指标 | E13: 项目质量提升情况 | G13: 提升 | H13: 100% | I13: 6.66 | J13: 6.66
C14: 生态环境成本指标 | E14: 厉行节约要求落实率 | G14: =100% | H14: 100% | I14: 6.66 | J14: 6.66
B15: 产出指标 | C15: 数量指标 | E15: 公路安全能力提升工程 | G15: 1项 | H15: 1项 | I15: 6.66 | J15: 6.66
E16: 危旧桥（危隧）改造 | G16: 5座 | H16: 5座 | I16: 6.7 | J16: 6.7
C17: 质量指标 | E17: 工程质量合格率 | G17: =100% | H17: 100% | I17: 6.66 | J17: 6.66
E18: 经费支出合规性 | G18: 合规 | H18: 100% | I18: 6.66 | J18: 6.66
C19: 时效指标 | E19: 建设工程完工及时率 | G19: =100% | H19: 100% | I19: 6.66 | J19: 6.66
E20: 经费支出时效性 | G20: 及时 | H20: 100% | I20: 6.66 | J20: 6.66
B21: 效益指标 | C21: 经济效益指标 | E21: 项目建设投资完成率 | G21: =100% | H21: 100% | I21: 6.68 | J21: 6.68
C22: 社会效益指标 | E22: 项目无有责投诉 | G22: 无 | H22: 100% | I22: 6.66 | J22: 6.66
C23: 生态效益指标 | E23: 环境保护情况 | G23: 有效 | H23: 100% | I23: 6.66 | J23: 6.66
B24: 满意度指标 | C24: 服务对象满意度指标 | E24: 人民群众满意度 | G24: >=80% | H24: 80% | I24: 10 | J24: 10
A25: 总分 | I25: 100 | J25: =SUM(J12:J24)+L5 -> 100 | K25: 优秀
A26: 说明 | B26: 无
A27: 注：1.其他资金包括中央补助、各级财政资金共同投入到同一项目的自有资金、社会资金等。
A28: 2.绩效自评采取打分评价形式，满分为100分，各部门可根据指标的重要程度自主确定各项三级指标的权重分值，各项指标得分加总得出该项目绩效自评的总分（中央和省委巡视、各级审计和财政监督中发现问题的酌情扣分），各项指标得分最高不能超过该指标分值上限，原则上一级指标分值统一设置为：成本指标20分、产出指标40分、效益指标20分、满意度指标10分、预算资金执行率10分。如有特殊情况，除预算资金执行率外，其他指标权重可作适当调整，但总分应为100分。
A29: 3.本表资金使用单位按具体项目填报，主管部门按二级项目汇总绩效目标，对于定量指标，绝对值直接累加计算，相对值按照资金额度加权平均计算；定性指标根据指标完成情况分为：全部或基本达成预期指标、部分达成预期指标并具有一定效果、未达成预期指标且效果较差三档，分别按照100%-80%（含）、80%-60%（含）、60%-0%合理填写完成比例。
